BEGIN:VCALENDAR
VERSION:2.0
PRODID:-//GALERIE MARIENBAD - ECPv6.15.14//NONSGML v1.0//EN
CALSCALE:GREGORIAN
METHOD:PUBLISH
X-ORIGINAL-URL:https://galerie-marienbad.cz
X-WR-CALDESC:Akce na GALERIE MARIENBAD
REFRESH-INTERVAL;VALUE=DURATION:PT1H
X-Robots-Tag:noindex
X-PUBLISHED-TTL:PT1H
BEGIN:VTIMEZONE
TZID:Europe/Paris
BEGIN:DAYLIGHT
TZOFFSETFROM:+0100
TZOFFSETTO:+0200
TZNAME:CEST
DTSTART:20250330T010000
END:DAYLIGHT
BEGIN:STANDARD
TZOFFSETFROM:+0200
TZOFFSETTO:+0100
TZNAME:CET
DTSTART:20251026T010000
END:STANDARD
BEGIN:DAYLIGHT
TZOFFSETFROM:+0100
TZOFFSETTO:+0200
TZNAME:CEST
DTSTART:20260329T010000
END:DAYLIGHT
BEGIN:STANDARD
TZOFFSETFROM:+0200
TZOFFSETTO:+0100
TZNAME:CET
DTSTART:20261025T010000
END:STANDARD
BEGIN:DAYLIGHT
TZOFFSETFROM:+0100
TZOFFSETTO:+0200
TZNAME:CEST
DTSTART:20270328T010000
END:DAYLIGHT
BEGIN:STANDARD
TZOFFSETFROM:+0200
TZOFFSETTO:+0100
TZNAME:CET
DTSTART:20271031T010000
END:STANDARD
END:VTIMEZONE
BEGIN:VEVENT
DTSTART;TZID=Europe/Paris:20260116T170000
DTEND;TZID=Europe/Paris:20260513T170000
DTSTAMP:20260420T052753
CREATED:20260106T124417Z
LAST-MODIFIED:20260106T125202Z
UID:7524-1768582800-1778691600@galerie-marienbad.cz
SUMMARY:FRANTIŠEK HODONSKÝ: OBRAZY a SOCHY
DESCRIPTION:GALERIE MARIENBAD\nna hlavní kolonádě v Mariánských Lázních \nsrdečně zve vás a vaše přátele na zahájení výstavy \nPátek 16. ledna 2026 v 17 hodin \nFRANTIŠEK HODONSKÝ\nOBRAZY a SOCHY • BILDER und SKULPTUREN \nzahájí   Alena Mrovcová   kurátor\nklavír   Jeff Beer \nVýstava potrvá do 13. 5. 2026\nGalerie otevřena denně 14–17 h
URL:https://galerie-marienbad.cz/event/frantisek-hodonsky-obrazy-a-sochy/
LOCATION:GALERIE MARIENBAD\, Goethovo nám. 625/33\, Mariánské Lázně\, CZ\, 353 01\, Czech Republic
CATEGORIES:Výstava
ATTACH;FMTTYPE=image/jpeg:https://galerie-marienbad.cz/wp-content/uploads/2026/01/Frantisek-Hodonsky-promo.jpg
END:VEVENT
END:VCALENDAR