BEGIN:VCALENDAR
VERSION:2.0
PRODID:-//GALERIE MARIENBAD - ECPv6.15.14//NONSGML v1.0//EN
CALSCALE:GREGORIAN
METHOD:PUBLISH
X-WR-CALNAME:GALERIE MARIENBAD
X-ORIGINAL-URL:https://galerie-marienbad.cz
X-WR-CALDESC:Akce na GALERIE MARIENBAD
REFRESH-INTERVAL;VALUE=DURATION:PT1H
X-Robots-Tag:noindex
X-PUBLISHED-TTL:PT1H
BEGIN:VTIMEZONE
TZID:Europe/Paris
BEGIN:DAYLIGHT
TZOFFSETFROM:+0100
TZOFFSETTO:+0200
TZNAME:CEST
DTSTART:20240331T010000
END:DAYLIGHT
BEGIN:STANDARD
TZOFFSETFROM:+0200
TZOFFSETTO:+0100
TZNAME:CET
DTSTART:20241027T010000
END:STANDARD
BEGIN:DAYLIGHT
TZOFFSETFROM:+0100
TZOFFSETTO:+0200
TZNAME:CEST
DTSTART:20250330T010000
END:DAYLIGHT
BEGIN:STANDARD
TZOFFSETFROM:+0200
TZOFFSETTO:+0100
TZNAME:CET
DTSTART:20251026T010000
END:STANDARD
BEGIN:DAYLIGHT
TZOFFSETFROM:+0100
TZOFFSETTO:+0200
TZNAME:CEST
DTSTART:20260329T010000
END:DAYLIGHT
BEGIN:STANDARD
TZOFFSETFROM:+0200
TZOFFSETTO:+0100
TZNAME:CET
DTSTART:20261025T010000
END:STANDARD
BEGIN:DAYLIGHT
TZOFFSETFROM:+0100
TZOFFSETTO:+0200
TZNAME:CEST
DTSTART:20270328T010000
END:DAYLIGHT
BEGIN:STANDARD
TZOFFSETFROM:+0200
TZOFFSETTO:+0100
TZNAME:CET
DTSTART:20271031T010000
END:STANDARD
END:VTIMEZONE
BEGIN:VEVENT
DTSTART;TZID=Europe/Paris:20250926T170000
DTEND;TZID=Europe/Paris:20260113T170000
DTSTAMP:20260420T052624
CREATED:20250703T101351Z
LAST-MODIFIED:20250829T141901Z
UID:7252-1758906000-1768323600@galerie-marienbad.cz
SUMMARY:Ivana Lomová: Obrazy
DESCRIPTION:Ivana LOMOVÁ je česká malířka\, která žije a tvoří v Praze.\nPo studiích architektury se jen krátce věnovala své profesi.\nByla však duší ve výtvarném umění. Začínala jako ilustrátorka a autorka kreslených filmů.\nUprostřed 90. let se odpoutala od ilustrací a malých formátů kreseb\, neboť se vehementně pustila do klasické olejové barvy na plátno\, kde našla své pravé malířské vyjádření.\nOd samého počátku maluje realisticky. Pracuje dle fotografie\, jež je jí jen inspirací pro zachycení reality\, kterou kombinuje s vlastními myšlenkovými představami.\nObrazy jsou motivované zážitky z minulosti\, silně emocionálně nabité. Vzpomínky z dětství\, které trávila se svou sestrou v pražské čtvrti Střešovice. Ve svých obrazech chce zachovat magickou vůni vzpomínek\, než dojde ke zkrášlování a modernizaci.\nLomová přistupuje k tvorbě s citovou zdrženlivostí. Motivy nejsou spektakulární. Běžné věci kolem nás. A z toho vyplývá mnohdy i barevná skromnost. Jsou to v podstatě tiché obrazy\, které nás vedou k zamyšlení nad pomíjivostí světa… ale také k zastavení v současném rušném životě. Před obrazy Lomové máme pocit\, že k nám promlouvá SÍLA TICHA.
URL:https://galerie-marienbad.cz/event/ivana-lomova-obrazy/
LOCATION:GALERIE MARIENBAD\, Goethovo nám. 625/33\, Mariánské Lázně\, CZ\, 353 01\, Czech Republic
CATEGORIES:Výstava
ATTACH;FMTTYPE=image/jpeg:https://galerie-marienbad.cz/wp-content/uploads/2025/07/lomova-hero-image-opt.jpg
END:VEVENT
BEGIN:VEVENT
DTSTART;TZID=Europe/Paris:20250510T130000
DTEND;TZID=Europe/Paris:20250916T170000
DTSTAMP:20260420T052624
CREATED:20250325T160426Z
LAST-MODIFIED:20250703T131247Z
UID:6311-1746882000-1758042000@galerie-marienbad.cz
SUMMARY:Václav Malina: KRAJINY • LANDSCHAFTEN
DESCRIPTION:GALERIE MARIENBAD vás srdečně zve na zahájení první výstavy s prezentací prací výtvarného umělce Václava Maliny. Otevření Galerie se uskuteční v pátek 9. května v 17 hodin.\nKurátor zahajovací výstavy je Alena Mrovcová. \nVýstava malíře Václava Maliny je zároveň poctou k jeho 75. jubileu.\nMalina\, rodák z Plzně\, je zcela výjimečnou osobností\, neboť nejen jako malíř\, grafik\, ale také jako literát\, galerista\, kurátor a vynikající pedagog se zapsal do historie české kultury. \nSvým dílem navazuje na tradici české krajinomalby. A však hledá nové malířské pojetí krajiny\, kterou ztvárňuje nejen impresionistickou malbu\, ale také konstruktivistickým a geometrickým pohledem.  \nJak je známo\, jediným znalcem a kritikem svého díla je umělec sám:\n„Ne kresba a její dodatečné vybarvování\, ale impresionistická malba je indikátorem barevných vztahů. To je podstata kolorismu\, který nelze napodobit\, ale pouze pochopit.“\nČirý sensualismus znamená pro Malinu více než všechny hlubokomyslné sociálně-politicky žánrové a jiné úvahy dohromady!\nMalina velmi často zdůrazňuje\, že nejlepší školou malby je příroda sama.\nDosud vášnivě maluje v plenéru\, kde nalézá prostor nejen pro přemýšlení\, ale i snění.
URL:https://galerie-marienbad.cz/event/vaclav-malina-krajiny-landschaften/
LOCATION:GALERIE MARIENBAD\, Goethovo nám. 625/33\, Mariánské Lázně\, CZ\, 353 01\, Czech Republic
CATEGORIES:Výstava
ATTACH;FMTTYPE=image/jpeg:https://galerie-marienbad.cz/wp-content/uploads/2025/03/vaclav-malina2.jpg
END:VEVENT
END:VCALENDAR